BEGIN:VCALENDAR
VERSION:2.0
PRODID:-//Nonuple Scrabble - ECPv6.15.20//NONSGML v1.0//EN
CALSCALE:GREGORIAN
METHOD:PUBLISH
X-ORIGINAL-URL:https://www.nonuple.org
X-WR-CALDESC:Évènements pour Nonuple Scrabble
REFRESH-INTERVAL;VALUE=DURATION:PT1H
X-Robots-Tag:noindex
X-PUBLISHED-TTL:PT1H
BEGIN:VTIMEZONE
TZID:Europe/Paris
BEGIN:DAYLIGHT
TZOFFSETFROM:+0100
TZOFFSETTO:+0200
TZNAME:CEST
DTSTART:20250330T010000
END:DAYLIGHT
BEGIN:STANDARD
TZOFFSETFROM:+0200
TZOFFSETTO:+0100
TZNAME:CET
DTSTART:20251026T010000
END:STANDARD
BEGIN:DAYLIGHT
TZOFFSETFROM:+0100
TZOFFSETTO:+0200
TZNAME:CEST
DTSTART:20260329T010000
END:DAYLIGHT
BEGIN:STANDARD
TZOFFSETFROM:+0200
TZOFFSETTO:+0100
TZNAME:CET
DTSTART:20261025T010000
END:STANDARD
BEGIN:DAYLIGHT
TZOFFSETFROM:+0100
TZOFFSETTO:+0200
TZNAME:CEST
DTSTART:20270328T010000
END:DAYLIGHT
BEGIN:STANDARD
TZOFFSETFROM:+0200
TZOFFSETTO:+0100
TZNAME:CET
DTSTART:20271031T010000
END:STANDARD
END:VTIMEZONE
BEGIN:VEVENT
DTSTART;TZID=Europe/Paris:20260418T141500
DTEND;TZID=Europe/Paris:20260418T180000
DTSTAMP:20260420T202146
CREATED:20260325T063537Z
LAST-MODIFIED:20260325T063537Z
UID:1420-1776521700-1776535200@www.nonuple.org
SUMMARY:Séance club
DESCRIPTION:Une partie commentée de Scrabble duplicate en 3 minutes suivie d’un dix coups « joker » ou d’autres jeux de lettres. \nVous pourrez rejouer la partie quelques jours après la séance sur cette page.
URL:https://www.nonuple.org/evenement/2026-04-18/
LOCATION:Maison pour Tous Albert Camus\, 118\, allée Maurice Bonafos\, MONTPELLIER\, 34070\, France
CATEGORIES:Scrabble duplicate
ATTACH;FMTTYPE=image/jpeg:https://www.nonuple.org/wp-content/uploads/2024/01/logolight.jpg
ORGANIZER;CN="Nonuple Scrabble":MAILTO:nonuple.scrabble@gmail.com
END:VEVENT
BEGIN:VEVENT
DTSTART;TZID=Europe/Paris:20260416T191500
DTEND;TZID=Europe/Paris:20260416T230000
DTSTAMP:20260420T202146
CREATED:20260325T070256Z
LAST-MODIFIED:20260325T070256Z
UID:1451-1776366900-1776380400@www.nonuple.org
SUMMARY:Séance club
DESCRIPTION:Une partie commentée de Scrabble duplicate en 3 minutes suivie d’un repas convivial en commun et éventuellement d’autres jeux de lettres. \nVous pourrez rejouer la partie quelques jours après la séance sur cette page.
URL:https://www.nonuple.org/evenement/2026-04-16/
LOCATION:Maison pour Tous Albert Camus\, 118\, allée Maurice Bonafos\, MONTPELLIER\, 34070\, France
CATEGORIES:Autres jeux de lettres,Scrabble duplicate
ATTACH;FMTTYPE=image/jpeg:https://www.nonuple.org/wp-content/uploads/2024/01/logolight.jpg
ORGANIZER;CN="Nonuple Scrabble":MAILTO:nonuple.scrabble@gmail.com
END:VEVENT
BEGIN:VEVENT
DTSTART;TZID=Europe/Paris:20260411T100000
DTEND;TZID=Europe/Paris:20260412T170000
DTSTAMP:20260420T202146
CREATED:20260122T074007Z
LAST-MODIFIED:20260325T062232Z
UID:1275-1775901600-1776013200@www.nonuple.org
SUMMARY:Festival du jeu de Montpellier 2026
DESCRIPTION:Le 16e Festival du Jeu « Sortons Jouer ! » aura lieu les 11 et 12 avril 2026 au Corum de Montpellier. \nNonuple Scrabble sera présent et animera des tables « Scrabble et jeux de lettres ». Venez nous retrouver ! \nExceptionnellement\, il n’y aura donc pas de séance au club samedi 11 avril. \nToutes les informations seront bientôt disponibles sur le site du festival.
URL:https://www.nonuple.org/evenement/festival-du-jeu-2026/
LOCATION:Corum de Montpellier\, Place Charles de Gaulle\, Montpellier\, France
CATEGORIES:Evènement
ATTACH;FMTTYPE=image/png:https://www.nonuple.org/wp-content/uploads/2026/01/cropped-logo_FJM_FINAL_160.png
END:VEVENT
BEGIN:VEVENT
DTSTART;TZID=Europe/Paris:20260409T191500
DTEND;TZID=Europe/Paris:20260409T230000
DTSTAMP:20260420T202146
CREATED:20260325T070151Z
LAST-MODIFIED:20260325T070151Z
UID:1449-1775762100-1775775600@www.nonuple.org
SUMMARY:Séance club
DESCRIPTION:Une partie commentée de Scrabble duplicate en 3 minutes suivie d’un repas convivial en commun et éventuellement d’autres jeux de lettres. \nVous pourrez rejouer la partie quelques jours après la séance sur cette page.
URL:https://www.nonuple.org/evenement/2026-04-09/
LOCATION:Maison pour Tous Albert Camus\, 118\, allée Maurice Bonafos\, MONTPELLIER\, 34070\, France
CATEGORIES:Autres jeux de lettres,Scrabble duplicate
ATTACH;FMTTYPE=image/jpeg:https://www.nonuple.org/wp-content/uploads/2024/01/logolight.jpg
ORGANIZER;CN="Nonuple Scrabble":MAILTO:nonuple.scrabble@gmail.com
END:VEVENT
BEGIN:VEVENT
DTSTART;TZID=Europe/Paris:20260404T141500
DTEND;TZID=Europe/Paris:20260404T180000
DTSTAMP:20260420T202146
CREATED:20260325T063400Z
LAST-MODIFIED:20260325T063400Z
UID:1418-1775312100-1775325600@www.nonuple.org
SUMMARY:Séance club
DESCRIPTION:Une partie commentée de Scrabble duplicate en 3 minutes suivie d’un dix coups « joker » ou d’autres jeux de lettres. \nVous pourrez rejouer la partie quelques jours après la séance sur cette page.
URL:https://www.nonuple.org/evenement/2026-04-04/
LOCATION:Maison pour Tous Albert Camus\, 118\, allée Maurice Bonafos\, MONTPELLIER\, 34070\, France
CATEGORIES:Scrabble duplicate
ATTACH;FMTTYPE=image/jpeg:https://www.nonuple.org/wp-content/uploads/2024/01/logolight.jpg
ORGANIZER;CN="Nonuple Scrabble":MAILTO:nonuple.scrabble@gmail.com
END:VEVENT
BEGIN:VEVENT
DTSTART;TZID=Europe/Paris:20260402T191500
DTEND;TZID=Europe/Paris:20260402T230000
DTSTAMP:20260420T202146
CREATED:20260325T065952Z
LAST-MODIFIED:20260403T071700Z
UID:1447-1775157300-1775170800@www.nonuple.org
SUMMARY:Séance club
DESCRIPTION:Nous avons joué une partie commentée de Scrabble duplicate en 3 minutes. \nRejouez la partie du jour grâce à Duel de Mots\nPartie normale 🔗 Ouvrir en plein écran \n\n    \n\n\nTop : 1047\nJoueurs : 11\n\n1. Hervé : 1021\n2. Alain : 1013\n3. Bertrand : 1012
URL:https://www.nonuple.org/evenement/2026-04-02/
LOCATION:Maison pour Tous Albert Camus\, 118\, allée Maurice Bonafos\, MONTPELLIER\, 34070\, France
CATEGORIES:Scrabble duplicate
ATTACH;FMTTYPE=image/jpeg:https://www.nonuple.org/wp-content/uploads/2024/01/logolight.jpg
ORGANIZER;CN="Nonuple Scrabble":MAILTO:nonuple.scrabble@gmail.com
END:VEVENT
BEGIN:VEVENT
DTSTART;TZID=Europe/Paris:20260328T141500
DTEND;TZID=Europe/Paris:20260328T180000
DTSTAMP:20260420T202146
CREATED:20260325T062644Z
LAST-MODIFIED:20260403T071919Z
UID:1416-1774707300-1774720800@www.nonuple.org
SUMMARY:Séance club
DESCRIPTION:Nous avons joué une partie commentée de Scrabble duplicate en 3 minutes\, suivie d’un « 10 coups joker ». \nRejouez les parties du jour grâce à Duel de Mots\nPartie normale 🔗 Ouvrir en plein écran \n\n    \n\n\nTop : 1089\nJoueurs : 13\n\n1. Hervé : 1075\n2. Bertrand : 1058\n3. Jacqueline G : 983\n\n10 coups joker 🔗 Ouvrir en plein écran \n\n    \n\n\nTop : 761\nJoueurs : 8\n\n1. Hervé : 683\n2. Serge : 671\n3. Bertrand : 670
URL:https://www.nonuple.org/evenement/2026-03-28/
LOCATION:Maison pour Tous Albert Camus\, 118\, allée Maurice Bonafos\, MONTPELLIER\, 34070\, France
CATEGORIES:Scrabble duplicate
ATTACH;FMTTYPE=image/jpeg:https://www.nonuple.org/wp-content/uploads/2024/01/logolight.jpg
ORGANIZER;CN="Nonuple Scrabble":MAILTO:nonuple.scrabble@gmail.com
END:VEVENT
BEGIN:VEVENT
DTSTART;TZID=Europe/Paris:20260326T191500
DTEND;TZID=Europe/Paris:20260326T230000
DTSTAMP:20260420T202146
CREATED:20260325T065817Z
LAST-MODIFIED:20260327T092406Z
UID:1445-1774552500-1774566000@www.nonuple.org
SUMMARY:Séance club
DESCRIPTION:Nous avons joué une partie commentée de Scrabble duplicate en 3 minutes. \nRejouez la partie du jour grâce à Duel de Mots\nPartie préparée spécial Francophonie 🔗 Ouvrir en plein écran \n\n    \n\n\nTop : 947\nJoueurs : 8\n\n1. Hervé : 881\n2. Alain : 825\n3. Benoit : 782
URL:https://www.nonuple.org/evenement/2026-03-26/
LOCATION:Maison pour Tous Albert Camus\, 118\, allée Maurice Bonafos\, MONTPELLIER\, 34070\, France
CATEGORIES:Autres jeux de lettres,Scrabble duplicate
ATTACH;FMTTYPE=image/jpeg:https://www.nonuple.org/wp-content/uploads/2024/01/logolight.jpg
ORGANIZER;CN="Nonuple Scrabble":MAILTO:nonuple.scrabble@gmail.com
END:VEVENT
BEGIN:VEVENT
DTSTART;TZID=Europe/Paris:20260325T080000
DTEND;TZID=Europe/Paris:20260325T170000
DTSTAMP:20260420T202146
CREATED:20260325T070734Z
LAST-MODIFIED:20260325T070734Z
UID:1457-1774425600-1774458000@www.nonuple.org
SUMMARY:Séance club
DESCRIPTION:Une partie commentée de Scrabble duplicate en 3 minutes suivie d’un repas convivial en commun et éventuellement d’autres jeux de lettres. \nVous pourrez rejouer la partie quelques jours après la séance sur cette page.
URL:https://www.nonuple.org/evenement/2026-05-07/
LOCATION:Maison pour Tous Albert Camus\, 118\, allée Maurice Bonafos\, MONTPELLIER\, 34070\, France
CATEGORIES:Autres jeux de lettres,Scrabble duplicate
ATTACH;FMTTYPE=image/jpeg:https://www.nonuple.org/wp-content/uploads/2024/01/logolight.jpg
ORGANIZER;CN="Nonuple Scrabble":MAILTO:nonuple.scrabble@gmail.com
END:VEVENT
BEGIN:VEVENT
DTSTART;TZID=Europe/Paris:20260321T141500
DTEND;TZID=Europe/Paris:20260321T180000
DTSTAMP:20260420T202146
CREATED:20260325T062526Z
LAST-MODIFIED:20260325T080118Z
UID:1414-1774102500-1774116000@www.nonuple.org
SUMMARY:Séance club
DESCRIPTION:Nous avons joué une partie commentée de Scrabble duplicate en 3 minutes\, suivie d’un « 10 coups joker ». \nRejouez les parties du jour grâce à Duel de Mots\nPartie normale 🔗 Ouvrir en plein écran \n\n    \n\n\nTop : 917\nJoueurs : 12\n\n1. Hervé : 913\n2. Serge : 759\n3. Pierre : 745\n\n10 coups joker 🔗 Ouvrir en plein écran \n\n    \n\n\nTop : 815\nJoueurs : 8\n\n1. Hervé : 809\n2. Pierre : 752\n3. Myriam : 692
URL:https://www.nonuple.org/evenement/2026-03-21/
LOCATION:Maison pour Tous Albert Camus\, 118\, allée Maurice Bonafos\, MONTPELLIER\, 34070\, France
CATEGORIES:Scrabble duplicate
ATTACH;FMTTYPE=image/jpeg:https://www.nonuple.org/wp-content/uploads/2024/01/logolight.jpg
ORGANIZER;CN="Nonuple Scrabble":MAILTO:nonuple.scrabble@gmail.com
END:VEVENT
BEGIN:VEVENT
DTSTART;TZID=Europe/Paris:20260319T191500
DTEND;TZID=Europe/Paris:20260319T230000
DTSTAMP:20260420T202146
CREATED:20260325T065640Z
LAST-MODIFIED:20260325T080252Z
UID:1443-1773947700-1773961200@www.nonuple.org
SUMMARY:Séance club
DESCRIPTION:Nous avons joué une partie commentée de Scrabble duplicate en 3 minutes suivie d’un repas convivial en commun. \nVous pourrez bientôt rejouer la partie sur cette page.
URL:https://www.nonuple.org/evenement/2026-03-19/
LOCATION:Maison pour Tous Albert Camus\, 118\, allée Maurice Bonafos\, MONTPELLIER\, 34070\, France
CATEGORIES:Autres jeux de lettres,Scrabble duplicate
ATTACH;FMTTYPE=image/jpeg:https://www.nonuple.org/wp-content/uploads/2024/01/logolight.jpg
ORGANIZER;CN="Nonuple Scrabble":MAILTO:nonuple.scrabble@gmail.com
END:VEVENT
BEGIN:VEVENT
DTSTART;TZID=Europe/Paris:20260314T141500
DTEND;TZID=Europe/Paris:20260314T180000
DTSTAMP:20260420T202146
CREATED:20260221T120921Z
LAST-MODIFIED:20260325T075817Z
UID:1389-1773497700-1773511200@www.nonuple.org
SUMMARY:Séance club
DESCRIPTION:Nous avons joué une partie commentée de Scrabble duplicate en 3 minutes. \nRejouez la partie du jour grâce à Duel de Mots\nPartie normale 🔗 Ouvrir en plein écran \n\n    \n\n\nTop : 869\nJoueurs : 12\n\n1. Hervé : 862\n2. Jacqueline M : 738\n3. Jacqueline G : 723
URL:https://www.nonuple.org/evenement/2026-03-14/
LOCATION:Maison pour Tous Albert Camus\, 118\, allée Maurice Bonafos\, MONTPELLIER\, 34070\, France
CATEGORIES:Scrabble duplicate
ATTACH;FMTTYPE=image/jpeg:https://www.nonuple.org/wp-content/uploads/2024/01/logolight.jpg
ORGANIZER;CN="Nonuple Scrabble":MAILTO:nonuple.scrabble@gmail.com
END:VEVENT
BEGIN:VEVENT
DTSTART;TZID=Europe/Paris:20260312T191500
DTEND;TZID=Europe/Paris:20260312T230000
DTSTAMP:20260420T202146
CREATED:20260221T120731Z
LAST-MODIFIED:20260325T075628Z
UID:1387-1773342900-1773356400@www.nonuple.org
SUMMARY:Séance club
DESCRIPTION:Nous avons joué une partie commentée de Scrabble duplicate en 3 minutes. \nRejouez la partie du jour grâce à Duel de Mots\nPartie normale 🔗 Ouvrir en plein écran \n\n    \n\n\nTop : 855\nJoueurs : 9\n\n1. Hervé : 844\n2. Bertrand : 826\n3. Teodora : 824
URL:https://www.nonuple.org/evenement/2026-03-12/
LOCATION:Maison pour Tous Albert Camus\, 118\, allée Maurice Bonafos\, MONTPELLIER\, 34070\, France
CATEGORIES:Autres jeux de lettres,Scrabble duplicate
ATTACH;FMTTYPE=image/jpeg:https://www.nonuple.org/wp-content/uploads/2024/01/logolight.jpg
ORGANIZER;CN="Nonuple Scrabble":MAILTO:nonuple.scrabble@gmail.com
END:VEVENT
BEGIN:VEVENT
DTSTART;TZID=Europe/Paris:20260307T133000
DTEND;TZID=Europe/Paris:20260307T180000
DTSTAMP:20260420T202146
CREATED:20260122T152614Z
LAST-MODIFIED:20260325T083121Z
UID:1293-1772890200-1772906400@www.nonuple.org
SUMMARY:3e journée Scrabble et Francophonie
DESCRIPTION:La 3e journée Scrabble et francophonie a eu lieu samedi 7 mars 2026 dans le cadre des Rendez-vous des Francophonies 2026 organisés par la Maison des Francophonies Montpellier-Via Domitia. La participation était gratuite mais une inscription préalable était demandée pour des raisons d’organisation.  \nPrès d’une cinquantaine de participants se sont donnés rendez-vous à 13h30 sur le site Saint-Charles de l’université de Montpellier Paul-Valéry\, salle 004\, pour une partie de Scrabble duplicate sur le thème de la francophonie. Une initiation a précédé la partie. Des lots (dictionnaires\, boîtes de jeux…) ont récompensé les trois premiers par catagories  : étudiants\, joueurs amateurs\, joueurs de club et joueurs licenciés. \nRejouez la partie du jour grâce à Duel de Mots\nPartie préparée spécial Francophonie 🔗 Ouvrir en plein écran \n\n    \n\n\nTop : 1006\nJoueurs : 42\n\n1. Alain Rasle : 906\n2. Marie-Madeleine Morel : 884\n3. Cécile Mattéra : 870
URL:https://www.nonuple.org/evenement/scrabble-et-francophonie-2026/
LOCATION:Université Paul-Valéry Montpellier 3 – Site Saint-Charles\, Rue du Professeur Henri-Serre\, MONTPELLIER\, 34070\, France
CATEGORIES:Evènement,Scrabble duplicate
ATTACH;FMTTYPE=image/jpeg:https://www.nonuple.org/wp-content/uploads/2025/02/flyer22mars_recto-e1739293869775.jpg
ORGANIZER;CN="Nonuple Scrabble":MAILTO:nonuple.scrabble@gmail.com
END:VEVENT
BEGIN:VEVENT
DTSTART;TZID=Europe/Paris:20260305T191500
DTEND;TZID=Europe/Paris:20260305T230000
DTSTAMP:20260420T202146
CREATED:20260221T115329Z
LAST-MODIFIED:20260325T075401Z
UID:1377-1772738100-1772751600@www.nonuple.org
SUMMARY:Séance club
DESCRIPTION:Nous avons joué une partie commentée de Scrabble duplicate en 3 minutes. \nRejouez la partie du jour grâce à Duel de Mots\nPartie normale 🔗 Ouvrir en plein écran \n\n    \n\n\nTop : 988\nJoueurs : 10\n\n1. Alain : 914\n2. Hervé : 891\n3. Bertrand : 874
URL:https://www.nonuple.org/evenement/2026-03-05/
LOCATION:Maison pour Tous Albert Camus\, 118\, allée Maurice Bonafos\, MONTPELLIER\, 34070\, France
CATEGORIES:Autres jeux de lettres,Scrabble duplicate
ATTACH;FMTTYPE=image/jpeg:https://www.nonuple.org/wp-content/uploads/2024/01/logolight.jpg
ORGANIZER;CN="Nonuple Scrabble":MAILTO:nonuple.scrabble@gmail.com
END:VEVENT
BEGIN:VEVENT
DTSTART;TZID=Europe/Paris:20260228T141500
DTEND;TZID=Europe/Paris:20260228T141500
DTSTAMP:20260420T202146
CREATED:20260221T114934Z
LAST-MODIFIED:20260325T074125Z
UID:1373-1772288100-1772288100@www.nonuple.org
SUMMARY:Séance club
DESCRIPTION:Nous avons joué une partie commentée de Scrabble duplicate en 3 minutes. \nRejouez la partie du jour grâce à Duel de Mots\nPartie normale 🔗 Ouvrir en plein écran \n\n    \n\n\nTop : 928\nJoueurs : 13\n\n1. Hervé : 888\n2. Pierre : 800\n3. Jacqueline M : 783
URL:https://www.nonuple.org/evenement/2026-02-28/
LOCATION:Maison pour Tous Albert Camus\, 118\, allée Maurice Bonafos\, MONTPELLIER\, 34070\, France
CATEGORIES:Autres jeux de lettres,Scrabble duplicate
ATTACH;FMTTYPE=image/jpeg:https://www.nonuple.org/wp-content/uploads/2024/01/logolight.jpg
ORGANIZER;CN="Nonuple Scrabble":MAILTO:nonuple.scrabble@gmail.com
END:VEVENT
BEGIN:VEVENT
DTSTART;TZID=Europe/Paris:20260226T191500
DTEND;TZID=Europe/Paris:20260226T230000
DTSTAMP:20260420T202146
CREATED:20260221T115108Z
LAST-MODIFIED:20260325T074422Z
UID:1375-1772133300-1772146800@www.nonuple.org
SUMMARY:Séance club
DESCRIPTION:Nous avons joué une partie commentée de Scrabble duplicate en 3 minutes\, suivie d’un repas convivial en commun. \nRejouez la partie du jour grâce à Duel de Mots\nPartie normale 🔗 Ouvrir en plein écran \n\n    \n\n\nTop : 932\nJoueurs : 13\n\n1. Hervé : 926\n2. Serge : 887\n3. Alain : 872
URL:https://www.nonuple.org/evenement/2026-02-26/
LOCATION:Maison pour Tous Albert Camus\, 118\, allée Maurice Bonafos\, MONTPELLIER\, 34070\, France
CATEGORIES:Autres jeux de lettres,Scrabble duplicate
ATTACH;FMTTYPE=image/jpeg:https://www.nonuple.org/wp-content/uploads/2024/01/logolight.jpg
ORGANIZER;CN="Nonuple Scrabble":MAILTO:nonuple.scrabble@gmail.com
END:VEVENT
BEGIN:VEVENT
DTSTART;TZID=Europe/Paris:20260221T141500
DTEND;TZID=Europe/Paris:20260221T180000
DTSTAMP:20260420T202146
CREATED:20260221T114833Z
LAST-MODIFIED:20260325T074603Z
UID:1371-1771683300-1771696800@www.nonuple.org
SUMMARY:Séance club
DESCRIPTION:Nous avons joué une partie commentée de Scrabble duplicate en 3 minutes. \nRejouez la partie du jour grâce à Duel de Mots\nPartie normale 🔗 Ouvrir en plein écran \n\n    \n\n\nTop : 966\nJoueurs : 11\n\n1. Serge : 875\n2. Hervé : 868\n3. Jacqueline M : 806
URL:https://www.nonuple.org/evenement/2026-02-21/
LOCATION:Maison pour Tous Albert Camus\, 118\, allée Maurice Bonafos\, MONTPELLIER\, 34070\, France
CATEGORIES:Autres jeux de lettres,Scrabble duplicate
ATTACH;FMTTYPE=image/jpeg:https://www.nonuple.org/wp-content/uploads/2024/01/logolight.jpg
ORGANIZER;CN="Nonuple Scrabble":MAILTO:nonuple.scrabble@gmail.com
END:VEVENT
BEGIN:VEVENT
DTSTART;TZID=Europe/Paris:20260219T191500
DTEND;TZID=Europe/Paris:20260219T230000
DTSTAMP:20260420T202146
CREATED:20260221T115707Z
LAST-MODIFIED:20260325T074740Z
UID:1379-1771528500-1771542000@www.nonuple.org
SUMMARY:Séance club
DESCRIPTION:Nous avons joué une partie commentée de Scrabble duplicate en 3 minutes suivie d’un repas convivial en commun. \nRejouez la partie du jour grâce à Duel de Mots\nPartie normale 🔗 Ouvrir en plein écran \n\n    \n\n\nTop : 904\nJoueurs : 11\n\n1. Hervé : 815\n2. Alain : 791\n3. Nathalie : 771
URL:https://www.nonuple.org/evenement/2026-02-19/
LOCATION:Maison pour Tous Albert Camus\, 118\, allée Maurice Bonafos\, MONTPELLIER\, 34070\, France
CATEGORIES:Autres jeux de lettres,Scrabble duplicate
ATTACH;FMTTYPE=image/jpeg:https://www.nonuple.org/wp-content/uploads/2024/01/logolight.jpg
ORGANIZER;CN="Nonuple Scrabble":MAILTO:nonuple.scrabble@gmail.com
END:VEVENT
BEGIN:VEVENT
DTSTART;TZID=Europe/Paris:20260214T141500
DTEND;TZID=Europe/Paris:20260214T180000
DTSTAMP:20260420T202146
CREATED:20260206T055330Z
LAST-MODIFIED:20260325T074908Z
UID:1352-1771078500-1771092000@www.nonuple.org
SUMMARY:Séance club
DESCRIPTION:Nous avons joué une partie commentée de Scrabble duplicate en 3 minutes par coup\, suivie d’un dix coups joker. \nRejouez les parties du jour grâce à Duel de Mots\nPartie normale 🔗 Ouvrir en plein écran \n\n    \n\n\nTop : 1033\nJoueurs : 14\n\n1. Hervé : 991\n2. Teodora : 847\n3. Pierre : 789\n\n10 coups joker 🔗 Ouvrir en plein écran \n\n    \n\n\nTop : 755\nJoueurs : 10\n\n1. Hervé : 711\n2. Teodora : 615\n3. Pierre : 587
URL:https://www.nonuple.org/evenement/2026-02-14/
LOCATION:Maison pour Tous Albert Camus\, 118\, allée Maurice Bonafos\, MONTPELLIER\, 34070\, France
CATEGORIES:Autres jeux de lettres,Scrabble duplicate
ATTACH;FMTTYPE=image/jpeg:https://www.nonuple.org/wp-content/uploads/2024/01/logolight.jpg
ORGANIZER;CN="Nonuple Scrabble":MAILTO:nonuple.scrabble@gmail.com
END:VEVENT
BEGIN:VEVENT
DTSTART;TZID=Europe/Paris:20260212T191500
DTEND;TZID=Europe/Paris:20260212T230000
DTSTAMP:20260420T202146
CREATED:20260206T055147Z
LAST-MODIFIED:20260325T075101Z
UID:1350-1770923700-1770937200@www.nonuple.org
SUMMARY:Séance club
DESCRIPTION:Nous avons jouée une partie commentée de Scrabble duplicate en 3 minutes par coup\, suivie d’un repas convivial en commun. \nRejouez la partie du jour grâce à Duel de Mots\nPartie normale 🔗 Ouvrir en plein écran \n\n    \n\n\nTop : 1180\nJoueurs : 11\n\n1. Arona : 1180 (au top !)\n2. Cécile : 1157\n3. Alain : 1127
URL:https://www.nonuple.org/evenement/2026-02-12/
LOCATION:Maison pour Tous Albert Camus\, 118\, allée Maurice Bonafos\, MONTPELLIER\, 34070\, France
CATEGORIES:Autres jeux de lettres,Scrabble duplicate
ATTACH;FMTTYPE=image/jpeg:https://www.nonuple.org/wp-content/uploads/2024/01/logolight.jpg
ORGANIZER;CN="Nonuple Scrabble":MAILTO:nonuple.scrabble@gmail.com
END:VEVENT
BEGIN:VEVENT
DTSTART;TZID=Europe/Paris:20260207T141500
DTEND;TZID=Europe/Paris:20260207T180000
DTSTAMP:20260420T202146
CREATED:20260206T054941Z
LAST-MODIFIED:20260325T075228Z
UID:1348-1770473700-1770487200@www.nonuple.org
SUMMARY:Séance club
DESCRIPTION:Nous avons joué une partie commentée de Scrabble duplicate en 3 minutes par coup\, suivie d’un dix coups joker. \nRejouez les parties du jour grâce à Duel de Mots\nPartie normale 🔗 Ouvrir en plein écran \n\n    \n\n\nTop : 762\nJoueurs : 15\n\n1. Bertrand : 747\n2. Hervé : 746\n3. Serge : 745\n\n10 coups joker 🔗 Ouvrir en plein écran \n\n    \n\n\nTop : 690\nJoueurs : 10\n\n1. Bertrand : 674\n2. Hervé : 633\n3. Serge : 568
URL:https://www.nonuple.org/evenement/2026-02-07/
LOCATION:Maison pour Tous Albert Camus\, 118\, allée Maurice Bonafos\, MONTPELLIER\, 34070\, France
CATEGORIES:Autres jeux de lettres,Scrabble duplicate
ATTACH;FMTTYPE=image/jpeg:https://www.nonuple.org/wp-content/uploads/2024/01/logolight.jpg
ORGANIZER;CN="Nonuple Scrabble":MAILTO:nonuple.scrabble@gmail.com
END:VEVENT
BEGIN:VEVENT
DTSTART;TZID=Europe/Paris:20260205T190000
DTEND;TZID=Europe/Paris:20260205T233000
DTSTAMP:20260420T202146
CREATED:20260206T054039Z
LAST-MODIFIED:20260206T054219Z
UID:1343-1770318000-1770334200@www.nonuple.org
SUMMARY:Séance club
DESCRIPTION:Partie commentée de Scrabble duplicate en 3 minutes par coup\, suivie d’un repas convivial et de Jarnac. \nRejouez la partie du jour grâce à Duel de Mots\nPartie normale 🔗 Ouvrir en plein écran \n\n    \n\n\nTop : 894\nJoueurs : 8\n\n1. Hervé : TOP\n2. Teodora : 831\n3. Alain : 816
URL:https://www.nonuple.org/evenement/2026-02-05/
LOCATION:Maison pour Tous Albert Camus\, 118\, allée Maurice Bonafos\, MONTPELLIER\, 34070\, France
CATEGORIES:Autres jeux de lettres,Scrabble duplicate
ATTACH;FMTTYPE=image/jpeg:https://www.nonuple.org/wp-content/uploads/2024/01/logolight.jpg
ORGANIZER;CN="Nonuple Scrabble":MAILTO:nonuple.scrabble@gmail.com
END:VEVENT
BEGIN:VEVENT
DTSTART;TZID=Europe/Paris:20260131T141500
DTEND;TZID=Europe/Paris:20260131T180000
DTSTAMP:20260420T202146
CREATED:20260122T073339Z
LAST-MODIFIED:20260206T054633Z
UID:1271-1769868900-1769882400@www.nonuple.org
SUMMARY:Séance club
DESCRIPTION:Partie commentée de Scrabble duplicate en 3 minutes par coup\, suivie d’un dix coups joker. \nRejouez les parties du jour grâce à Duel de Mots\nPartie normale 🔗 Ouvrir en plein écran \n\n    \n\n\nTop : 1040\nJoueurs : 11\n\n1. Hervé : 1027\n2. Serge : 982\n3. Nadine P : 879\n\n10 coups joker 🔗 Ouvrir en plein écran \n\n    \n\n\nTop : 746\nJoueurs : 9\n\n1. Hervé : 634\n2. Jacqueline G : 628\n3. Serge : 599
URL:https://www.nonuple.org/evenement/2026-01-31/
LOCATION:Maison pour Tous Albert Camus\, 118\, allée Maurice Bonafos\, MONTPELLIER\, 34070\, France
CATEGORIES:Scrabble duplicate
ATTACH;FMTTYPE=image/jpeg:https://www.nonuple.org/wp-content/uploads/2024/01/logolight.jpg
ORGANIZER;CN="Nonuple Scrabble":MAILTO:nonuple.scrabble@gmail.com
END:VEVENT
BEGIN:VEVENT
DTSTART;TZID=Europe/Paris:20260129T191500
DTEND;TZID=Europe/Paris:20260129T230000
DTSTAMP:20260420T202146
CREATED:20260122T073553Z
LAST-MODIFIED:20260131T072007Z
UID:1273-1769714100-1769727600@www.nonuple.org
SUMMARY:Séance club
DESCRIPTION:Partie commentée de Scrabble duplicate en 3 minutes par coup\, suivie d’un repas convivial. \nRejouez la partie du jour grâce à Duel de Mots\nPartie normale 🔗 Ouvrir en plein écran \n\n    \n\n\nTop : 945\nJoueurs : 15\n\n1. Cécile : 889\n2. Benoit : 879\n3. Alain : 867
URL:https://www.nonuple.org/evenement/2026-01-29/
CATEGORIES:Scrabble duplicate
ATTACH;FMTTYPE=image/jpeg:https://www.nonuple.org/wp-content/uploads/2024/01/logolight.jpg
END:VEVENT
BEGIN:VEVENT
DTSTART;TZID=Europe/Paris:20260124T141500
DTEND;TZID=Europe/Paris:20260124T180000
DTSTAMP:20260420T202146
CREATED:20260122T073228Z
LAST-MODIFIED:20260125T095525Z
UID:1269-1769264100-1769277600@www.nonuple.org
SUMMARY:Séance club
DESCRIPTION:Partie commentée de Scrabble duplicate en 3 minutes par coup. \nRejouez la partie du jour grâce à Duel de Mots\nPartie normale 🔗 Ouvrir en plein écran \n\n    \n\n\nTop : 905\nJoueurs : 15\n\n1. Hervé : 889\n2. Serge : 823\n3. Jacqueline G : 791
URL:https://www.nonuple.org/evenement/2026-01-24/
LOCATION:Maison pour Tous Albert Camus\, 118\, allée Maurice Bonafos\, MONTPELLIER\, 34070\, France
CATEGORIES:Scrabble duplicate
ATTACH;FMTTYPE=image/jpeg:https://www.nonuple.org/wp-content/uploads/2024/01/logolight.jpg
ORGANIZER;CN="Nonuple Scrabble":MAILTO:nonuple.scrabble@gmail.com
END:VEVENT
BEGIN:VEVENT
DTSTART;TZID=Europe/Paris:20260122T191500
DTEND;TZID=Europe/Paris:20260122T230000
DTSTAMP:20260420T202146
CREATED:20260122T071313Z
LAST-MODIFIED:20260123T074750Z
UID:1256-1769109300-1769122800@www.nonuple.org
SUMMARY:Séance club
DESCRIPTION:Partie de Scrabble duplicate en 3 minutes par coup\, suivie d’un repas en commun. \nRejouez la partie du jour grâce à Duel de Mots\nPartie normale 🔗 Ouvrir en plein écran \n\n    \n\n\nTop : 888\nJoueurs : 11\n\n1. Bertrand : 880\n2. Alain : 844\n3. Hervé : 803
URL:https://www.nonuple.org/evenement/2026-01-22/
LOCATION:Maison pour Tous Albert Camus\, 118\, allée Maurice Bonafos\, MONTPELLIER\, 34070\, France
CATEGORIES:Scrabble duplicate
ATTACH;FMTTYPE=image/jpeg:https://www.nonuple.org/wp-content/uploads/2024/01/logolight.jpg
ORGANIZER;CN="Nonuple Scrabble":MAILTO:nonuple.scrabble@gmail.com
END:VEVENT
BEGIN:VEVENT
DTSTART;TZID=Europe/Paris:20260117T141500
DTEND;TZID=Europe/Paris:20260122T180000
DTSTAMP:20260420T202146
CREATED:20260122T073117Z
LAST-MODIFIED:20260123T074610Z
UID:1267-1768659300-1769104800@www.nonuple.org
SUMMARY:Séance club
DESCRIPTION:Partie commentée de Scrabble duplicate en 3 minutes par coup. \nRejouez la partie du jour grâce à Duel de Mots\nPartie normale 🔗 Ouvrir en plein écran \n\n    \n\n\nTop : 1028\nJoueurs : 13\n\n1. Hervé : 1004\n2. Richard : 993\n3. Serge : 975
URL:https://www.nonuple.org/evenement/2026-01-17/
LOCATION:Maison pour Tous Albert Camus\, 118\, allée Maurice Bonafos\, MONTPELLIER\, 34070\, France
CATEGORIES:Autres jeux de lettres,Scrabble duplicate
ATTACH;FMTTYPE=image/jpeg:https://www.nonuple.org/wp-content/uploads/2024/01/logolight.jpg
ORGANIZER;CN="Nonuple Scrabble":MAILTO:nonuple.scrabble@gmail.com
END:VEVENT
BEGIN:VEVENT
DTSTART;TZID=Europe/Paris:20260115T191500
DTEND;TZID=Europe/Paris:20260115T230000
DTSTAMP:20260420T202146
CREATED:20260122T071159Z
LAST-MODIFIED:20260122T174539Z
UID:1254-1768504500-1768518000@www.nonuple.org
SUMMARY:Séance club
DESCRIPTION:Partie de Scrabble duplicate en 3 minutes par coup\, suivie d’un repas en commun. \nRejouez la partie du jour grâce à Duel de Mots\nPartie normale 🔗 Ouvrir en plein écran \n\n    \n\n\nTop : 952\nJoueurs : 8\n\n1. Teodora : 931\n2. Alain : 922\n3. Hervé : 919
URL:https://www.nonuple.org/evenement/2026-01-15/
LOCATION:Maison pour Tous Albert Camus\, 118\, allée Maurice Bonafos\, MONTPELLIER\, 34070\, France
CATEGORIES:Scrabble duplicate
ATTACH;FMTTYPE=image/jpeg:https://www.nonuple.org/wp-content/uploads/2024/01/logolight.jpg
ORGANIZER;CN="Nonuple Scrabble":MAILTO:nonuple.scrabble@gmail.com
END:VEVENT
BEGIN:VEVENT
DTSTART;TZID=Europe/Paris:20260110T141500
DTEND;TZID=Europe/Paris:20260110T180000
DTSTAMP:20260420T202146
CREATED:20260122T073005Z
LAST-MODIFIED:20260122T163608Z
UID:1265-1768054500-1768068000@www.nonuple.org
SUMMARY:Séance club et galette !
DESCRIPTION:Partie commentée de Scrabble duplicate en 3 minutes par coup\, suivie de la traditionnelle galette de rentrée offerte par le club et d’un « 10 coups joker ». \nRejouez les parties du jour grâce à Duel de Mots\nPartie normale 🔗 Ouvrir en plein écran \n\n    \n\n\nTop : 1028\nJoueurs : 15\n\n1. Hervé : 1021\n2. Richard : 1016\n3. Gilberte : 909\n\n10 coups joker 🔗 Ouvrir en plein écran \n\n    \n\n\nTop : 786\nJoueurs : 11\n\n1. Hervé : 782\n2. Pierre : 645\n3. Nadine P : 572
URL:https://www.nonuple.org/evenement/2026-01-10/
LOCATION:Maison pour Tous Albert Camus\, 118\, allée Maurice Bonafos\, MONTPELLIER\, 34070\, France
CATEGORIES:Evènement,Scrabble duplicate
ATTACH;FMTTYPE=image/jpeg:https://www.nonuple.org/wp-content/uploads/2026/01/galette.jpg
ORGANIZER;CN="Nonuple Scrabble":MAILTO:nonuple.scrabble@gmail.com
END:VEVENT
END:VCALENDAR